BEGIN:VCALENDAR
VERSION:2.0
PRODID:-//Musikverein Burlafingen e.V. - ECPv6.15.20//NONSGML v1.0//EN
CALSCALE:GREGORIAN
METHOD:PUBLISH
X-ORIGINAL-URL:https://www.mv-burlafingen.de
X-WR-CALDESC:Veranstaltungen für Musikverein Burlafingen e.V.
REFRESH-INTERVAL;VALUE=DURATION:PT1H
X-Robots-Tag:noindex
X-PUBLISHED-TTL:PT1H
BEGIN:VTIMEZONE
TZID:Europe/Berlin
BEGIN:DAYLIGHT
TZOFFSETFROM:+0100
TZOFFSETTO:+0200
TZNAME:CEST
DTSTART:20230326T010000
END:DAYLIGHT
BEGIN:STANDARD
TZOFFSETFROM:+0200
TZOFFSETTO:+0100
TZNAME:CET
DTSTART:20231029T010000
END:STANDARD
BEGIN:DAYLIGHT
TZOFFSETFROM:+0100
TZOFFSETTO:+0200
TZNAME:CEST
DTSTART:20240331T010000
END:DAYLIGHT
BEGIN:STANDARD
TZOFFSETFROM:+0200
TZOFFSETTO:+0100
TZNAME:CET
DTSTART:20241027T010000
END:STANDARD
BEGIN:DAYLIGHT
TZOFFSETFROM:+0100
TZOFFSETTO:+0200
TZNAME:CEST
DTSTART:20250330T010000
END:DAYLIGHT
BEGIN:STANDARD
TZOFFSETFROM:+0200
TZOFFSETTO:+0100
TZNAME:CET
DTSTART:20251026T010000
END:STANDARD
BEGIN:DAYLIGHT
TZOFFSETFROM:+0100
TZOFFSETTO:+0200
TZNAME:CEST
DTSTART:20260329T010000
END:DAYLIGHT
BEGIN:STANDARD
TZOFFSETFROM:+0200
TZOFFSETTO:+0100
TZNAME:CET
DTSTART:20261025T010000
END:STANDARD
BEGIN:DAYLIGHT
TZOFFSETFROM:+0100
TZOFFSETTO:+0200
TZNAME:CEST
DTSTART:20270328T010000
END:DAYLIGHT
BEGIN:STANDARD
TZOFFSETFROM:+0200
TZOFFSETTO:+0100
TZNAME:CET
DTSTART:20271031T010000
END:STANDARD
END:VTIMEZONE
BEGIN:VEVENT
DTSTART;TZID=Europe/Berlin:20260313T190000
DTEND;TZID=Europe/Berlin:20260313T210000
DTSTAMP:20260425T003601
CREATED:20260112T144752Z
LAST-MODIFIED:20260112T145119Z
UID:3181-1773428400-1773435600@www.mv-burlafingen.de
SUMMARY:Jahreshauptversammlung
DESCRIPTION:Gerne laden wir dich herzlich zu unserer Jahreshauptversammlung ein!\nWeitere Infos folgen.
URL:https://www.mv-burlafingen.de/termine/jahreshauptversammlung/
LOCATION:Iselstuben\, Thalfinger Straße 82\, Neu-Ulm/Burlafingen\, 89233\, Germany
END:VEVENT
BEGIN:VEVENT
DTSTART;TZID=Europe/Berlin:20260221T180000
DTEND;TZID=Europe/Berlin:20260221T193000
DTSTAMP:20260425T003601
CREATED:20260112T144243Z
LAST-MODIFIED:20260112T144312Z
UID:3176-1771696800-1771702200@www.mv-burlafingen.de
SUMMARY:Funkenfeuer
DESCRIPTION:Wir begleiten wie jedes Jahr den Umzug zum Funkenfeuer des FC Burlafingens vom Dorfplatz zum Festplatz. \nAbmarsch 18 Uhr Dorfplatz Burlafingen 🎼
URL:https://www.mv-burlafingen.de/termine/funkenfeuer/
END:VEVENT
BEGIN:VEVENT
DTSTART;TZID=Europe/Berlin:20251116T090000
DTEND;TZID=Europe/Berlin:20251116T110000
DTSTAMP:20260425T003601
CREATED:20250224T165352Z
LAST-MODIFIED:20250224T165352Z
UID:2935-1763283600-1763290800@www.mv-burlafingen.de
SUMMARY:Volkstrauertag
DESCRIPTION:
URL:https://www.mv-burlafingen.de/termine/volkstrauertag/
LOCATION:St. Konrad – Katholische Kirche\, Friedhofstraße 8\, Neu-Ulm/Burlafingen\, 89233\, Germany
END:VEVENT
BEGIN:VEVENT
DTSTART;TZID=Europe/Berlin:20250928T103000
DTEND;TZID=Europe/Berlin:20250928T150000
DTSTAMP:20260425T003601
CREATED:20250707T151649Z
LAST-MODIFIED:20250909T071219Z
UID:3128-1759055400-1759071600@www.mv-burlafingen.de
SUMMARY:Herbstfest 🍻🍂
DESCRIPTION:WEISSWURST\, BIERLE UND TOLLE MUSIK! ODER DOCH A SÜBBLE? \nAlles was das Herz begehrt – am Herbstfest freuen wir uns auf einen Besuch! \n 
URL:https://www.mv-burlafingen.de/termine/musikalischer-fruehschoppen/
LOCATION:St. Konrad – Katholische Kirche\, Friedhofstraße 8\, Neu-Ulm/Burlafingen\, 89233\, Germany
END:VEVENT
BEGIN:VEVENT
DTSTART;TZID=Europe/Berlin:20250713T100000
DTEND;TZID=Europe/Berlin:20250713T120000
DTSTAMP:20260425T003601
CREATED:20250224T165254Z
LAST-MODIFIED:20250224T165254Z
UID:2933-1752400800-1752408000@www.mv-burlafingen.de
SUMMARY:50 Jahre Frauenbund - Gottesdienst
DESCRIPTION:50 Jahre Frauenbund! 🥳\nWas für eine Zahl! \nWir freuen uns den Gottesdienst musikalisch begleiten zu dürfen!
URL:https://www.mv-burlafingen.de/termine/50-jahre-frauenbund-gottesdienst/
LOCATION:St. Konrad – Katholische Kirche\, Friedhofstraße 8\, Neu-Ulm/Burlafingen\, 89233\, Germany
END:VEVENT
BEGIN:VEVENT
DTSTART;TZID=Europe/Berlin:20250629T110000
DTEND;TZID=Europe/Berlin:20250629T130000
DTSTAMP:20260425T003601
CREATED:20250224T164835Z
LAST-MODIFIED:20250224T165042Z
UID:2927-1751194800-1751202000@www.mv-burlafingen.de
SUMMARY:Glacis Konzert
DESCRIPTION:Jedes Jahr dürfen wir im Glacis in Neu-Ulm das schöne Burlafingen vertreten.\nAuch in diesem Jahr freuen wir uns auf dein Kommen!
URL:https://www.mv-burlafingen.de/termine/glacis-konzert/
LOCATION:Glacis Park Neu-Ulm\, Neu-Ulm\, 89231\, Germany
END:VEVENT
BEGIN:VEVENT
DTSTART;VALUE=DATE:20250621
DTEND;VALUE=DATE:20250622
DTSTAMP:20260425T003601
CREATED:20241218T152411Z
LAST-MODIFIED:20241218T152411Z
UID:2736-1750464000-1750550399@www.mv-burlafingen.de
SUMMARY:Dorffest 2025
DESCRIPTION:Auch in diesem Jahr dürfen wir bei unserem Dorffest mitwirken. \nZum Fassanstich unterstreichen wir den Mittagstisch und ganztägig wird an unserem Pilsstand frisches Pils für dich gezapft! 🍻
URL:https://www.mv-burlafingen.de/termine/dorffest-burlafingen-2025/
LOCATION:Dorfplatz\, Thalfinger Straße 55\, Neu-Ulm/Burlafingen\, 89233\, Germany
END:VEVENT
BEGIN:VEVENT
DTSTART;TZID=Europe/Berlin:20250530T150000
DTEND;TZID=Europe/Berlin:20250530T170000
DTSTAMP:20260425T003601
CREATED:20250520T131853Z
LAST-MODIFIED:20250520T131951Z
UID:3124-1748617200-1748624400@www.mv-burlafingen.de
SUMMARY:Tag der offenen Tür - Neue Grundschule Burlafingen
DESCRIPTION:Unsere Kapelle darf an diesem Tag den Tag der offenen Tür der neu errichteten Grundschule in Burlafingen umrahmen.\nWir danken\, dass wir diesen tollen Tag unterstützen dürfen und freuen uns\, die neue Schule von innen sehen zu dürfen! 📚
URL:https://www.mv-burlafingen.de/termine/tag-der-offenen-tuer-neue-grundschule-burlafingen/
LOCATION:Neue Grundschule Burlafingen\, Adenauerstraße 14\, Neu-Ulm/Burlafingen\, Bayern\, 89233
ORGANIZER;CN="Grundschule Burlafingen":MAILTO:info@gsburlafingen.de
END:VEVENT
BEGIN:VEVENT
DTSTART;VALUE=DATE:20250525
DTEND;VALUE=DATE:20250526
DTSTAMP:20260425T003601
CREATED:20241218T151839Z
LAST-MODIFIED:20241218T152100Z
UID:2732-1748131200-1748217599@www.mv-burlafingen.de
SUMMARY:Jahrhundertfest Feldstetten - Festumzug
DESCRIPTION:Unsere Freunde des Musikverein Feldstetten e.V. haben uns eingeladen an ihrer 100-Jahr-Feier teilzunehmen.\nMit großer Freude werden wir den Festumzug unterstützen 🥳🎶 \nAlle Info’s zum Jahrhundertsfest auf: https://mv-feldstetten.de/jubilaeum/
URL:https://www.mv-burlafingen.de/termine/100-jahre-feldstetten-festumzug/
LOCATION:Festplatz Laichingen-Feldstetten\, Lange Straße 117\, Laichingen-Feldstetten\, Baden-Würtemberg\, 89150\, Germany
END:VEVENT
BEGIN:VEVENT
DTSTART;TZID=Europe/Berlin:20250524T160000
DTEND;TZID=Europe/Berlin:20250524T183000
DTSTAMP:20260425T003601
CREATED:20250520T130717Z
LAST-MODIFIED:20250520T131031Z
UID:3111-1748102400-1748111400@www.mv-burlafingen.de
SUMMARY:75 Jahre Feuerwehrkapelle Pfuhl
DESCRIPTION:Unsere Nachbarn\, die Feuerwehrkapelle Pfuhl\, feiert ihren 75 Geburtstag! 🥳\nWir dürfen am Samstag den musikalischen Auftakt ab 16 Uhr gestalten. \nVielen Dank für die Einladung – wir gratulieren herzlich und freuen uns auf einen schönen Abend! \nDas komplette Programm findest du hier ⬇️ \n 
URL:https://www.mv-burlafingen.de/termine/75-jahre-feuerwehrkapelle-pfuhl/
LOCATION:Haus der Musik\, Pfuhl\, Heerstraße 73\, Neu-Ulm/Pfuhl\, Bayern\, 89233\, Germany
END:VEVENT
BEGIN:VEVENT
DTSTART;VALUE=DATE:20250517
DTEND;VALUE=DATE:20250518
DTSTAMP:20260425T003601
CREATED:20241218T150839Z
LAST-MODIFIED:20250513T215650Z
UID:2726-1747440000-1747526399@www.mv-burlafingen.de
SUMMARY:Stadtfest 2025
DESCRIPTION:Wie jedes Jahr dürfen wir vom Musikverein Burlafingen einen Essensstand auf dem Neu-Ulmer Stadtfest bewirten.\nAb 11 Uhr bis ca. 23 Uhr (oder solange der Vorrat reicht 😉) freuen wir uns auf dein Kommen! \nUnsere Speisekarte: \n1 Stück Bratwurst mit selbstgemachtem Burlafinger Kartoffelsalat und Soße 6\,00€\n2 Stück Bratwurst mit selbstgemachtem Burlafinger Kartoffelsalat und Soße 7\,50€ \nCurrywurst mit Pommes (weiß oder rot) 6\,50€\nCurrywurst mit Semmel (weiß oder rot) 5\,00€ \nRote im Semmel 4\,00€\nPommes 3\,50€\nSemmel 1\,00€
URL:https://www.mv-burlafingen.de/termine/stadtfest-2025/
LOCATION:Rathausplatz Neu-Ulm\, Augsburger Straße 15\, Neu-Ulm\, Bayern\, 89231\, Germany
END:VEVENT
BEGIN:VEVENT
DTSTART;VALUE=DATE:20250501
DTEND;VALUE=DATE:20250502
DTSTAMP:20260425T003601
CREATED:20241009T201218Z
LAST-MODIFIED:20241009T201218Z
UID:2340-1746057600-1746143999@www.mv-burlafingen.de
SUMMARY:Weckruf
DESCRIPTION:Ab morgens Punkt 6 Uhr marschiert die Kapelle zum Weckruf zu verschiedenen gesponsorten Stationen.\nDer Weckruf gilt als alte Tradion. Dem Dorf wird die freudige Nachricht überbracht\, dass der Winter vorbei ist und nun die warme Jahreszeit beginnt.
URL:https://www.mv-burlafingen.de/termine/weckruf/
LOCATION:Burlafingen\, Neu-Ulm/Burlafingen\, 89233
END:VEVENT
BEGIN:VEVENT
DTSTART;TZID=Europe/Berlin:20250430T180000
DTEND;TZID=Europe/Berlin:20250430T193000
DTSTAMP:20260425T003601
CREATED:20241009T200746Z
LAST-MODIFIED:20241219T133005Z
UID:2338-1746036000-1746041400@www.mv-burlafingen.de
SUMMARY:Maifeier
DESCRIPTION:Der Vereinsring Burlafingen veranstaltet die Maifeier.\nGemeinsam mit den umliegenden Vereinen sowie Kindergärten wird der Maibaum geehrt.
URL:https://www.mv-burlafingen.de/termine/maifeier/
LOCATION:Dorfplatz\, Thalfinger Straße 55\, Neu-Ulm/Burlafingen\, 89233\, Germany
END:VEVENT
BEGIN:VEVENT
DTSTART;TZID=Europe/Berlin:20250426T190000
DTEND;TZID=Europe/Berlin:20250426T230000
DTSTAMP:20260425T003601
CREATED:20241009T200008Z
LAST-MODIFIED:20250422T085146Z
UID:2331-1745694000-1745708400@www.mv-burlafingen.de
SUMMARY:Frühjahrskonzert 2025
DESCRIPTION:Endlich ist es Frühling – Endlich ist es wieder Zeit für unser Frühjahrskonzert! ♥️ \nDer Musikverein Burlafingen lädt ein zum musikalischen Höhepunkt des Jahres!\nUnser ganz besonderes Highlight: Konzertstück trifft auf moderne Elektrosounds und wird begleitet von einer spektakulären Lichtshow!\nFreu dich auf ein abwechslungsreiches Programm\, mitreißende Klänge und pure Spielfreude – live! \nEinlass: ab 19 Uhr \nKonzertbeginn: 19:30 Uhr \nProgramm:\nEröffnung durch die Jugend des MVB\nAnschließend präsentiert die große Kapelle: \nWhere Eagles Soar                                       Steven Reineke\nThe Ghost Ship                                              José Alberto Pina\nRadetzky Marsch                                          Johann Strauss (Vater) \nPAUSE \nMarche des Soldates de                            Jean Brouqiére\nRobert Bruce                                                 arr. Guido Renn \nEHRUNGEN \nAround the world in 80 days                  Otto M. Schwarz\nRosen aus dem Süden                               Johann Strauss (Sohn)\nUdo Jürgens LIVE                                       Udo Jürgens\narr. Kurt Gäble
URL:https://www.mv-burlafingen.de/termine/fruehjahrskonzert/
LOCATION:Iselhalle\, Thalfinger Straße 82\, Neu-Ulm/Burlafingen\, 89233\, Germany
END:VEVENT
BEGIN:VEVENT
DTSTART;VALUE=DATE:20241224
DTEND;VALUE=DATE:20241225
DTSTAMP:20260425T003601
CREATED:20241219T132549Z
LAST-MODIFIED:20241219T132549Z
UID:2868-1734998400-1735084799@www.mv-burlafingen.de
SUMMARY:Christmette mit der Christmas Brass
DESCRIPTION:Alle Jahre wieder untermalt unsere Kleinbesetzung alias „Christmas Brass“ die weihnachtliche Christmette. \nLauscht unseren Musikern am Weihnachtsabend in der St. Konradskirche.
URL:https://www.mv-burlafingen.de/termine/christmette-mit-der-christmas-brass/
LOCATION:St. Konrad – Katholische Kirche\, Friedhofstraße 8\, Neu-Ulm/Burlafingen\, 89233\, Germany
END:VEVENT
BEGIN:VEVENT
DTSTART;VALUE=DATE:20241224
DTEND;VALUE=DATE:20241225
DTSTAMP:20260425T003601
CREATED:20241219T132338Z
LAST-MODIFIED:20241219T132338Z
UID:2866-1734998400-1735084799@www.mv-burlafingen.de
SUMMARY:Glühwein & Punsch on Christmas 🎄
DESCRIPTION:Zum ersten Mal dürfen wir dieses Jahr nach der Christmette in Burlafingen Glühwein und Punsch ausschenken.\nKommt gerne vorbei und genies‘ den Weihnachtsabend mit uns!\nAuch ohne den Besuch des Gottesdienstes kannst du gerne auf ein Tässchen vorbei kommen.\nDu findest uns am St. Konradsplatz in Burlafingen. \n→ Gerne gesehen: Bring gerne deine eigene Tasse mit! 
URL:https://www.mv-burlafingen.de/termine/gluehwein-punsch-on-christmas-%f0%9f%8e%84/
LOCATION:St. Konrad – Katholische Kirche\, Friedhofstraße 8\, Neu-Ulm/Burlafingen\, 89233\, Germany
END:VEVENT
BEGIN:VEVENT
DTSTART;TZID=Europe/Berlin:20241222T170000
DTEND;TZID=Europe/Berlin:20241222T220000
DTSTAMP:20260425T003601
CREATED:20241219T132853Z
LAST-MODIFIED:20241219T132853Z
UID:2873-1734886800-1734904800@www.mv-burlafingen.de
SUMMARY:Singen unterm Christbaum 🎄 - mit der Christmas Brass
DESCRIPTION:Der Vereinsring Burlafingen läd zum gemeinsamen Singen unterm Christbaum ein.\nUnsere Kleinbesetzung – die Christmas Brass – unterstreichen die Veranstaltung musikalisch.
URL:https://www.mv-burlafingen.de/termine/singen-unterm-christbaum-%f0%9f%8e%84-mit-der-christmas-brass/
LOCATION:Dorfplatz\, Thalfinger Straße 55\, Neu-Ulm/Burlafingen\, 89233\, Germany
END:VEVENT
BEGIN:VEVENT
DTSTART;TZID=Europe/Berlin:20241208T110000
DTEND;TZID=Europe/Berlin:20241208T120000
DTSTAMP:20260425T003601
CREATED:20241009T195030Z
LAST-MODIFIED:20241009T195204Z
UID:2320-1733655600-1733659200@www.mv-burlafingen.de
SUMMARY:Adventsauftritt Caritas Seniorenzentrum
DESCRIPTION:Alle Jahre wieder bereitet die Kapelle älteren Damen und Herren sowie Angestellten des Caritas Seniorenzentrums in der Adventszeit eine Freude.\nSchöne Musik\, ob zum schunkeln\, klatschen oder mitsingen bringt die Bewohner in Weihnachtsstimmung.
URL:https://www.mv-burlafingen.de/termine/adventsauftritt-caritas-seniorenzentrum/
LOCATION:Caritas Seniorenzentrum\, Heinz-Rühmann-Straße 14\, Neu-Ulm\, 89231\, Germany
END:VEVENT
BEGIN:VEVENT
DTSTART;TZID=Europe/Berlin:20241101T150000
DTEND;TZID=Europe/Berlin:20241101T170000
DTSTAMP:20260425T003601
CREATED:20241009T190737Z
LAST-MODIFIED:20241009T195301Z
UID:2313-1730473200-1730480400@www.mv-burlafingen.de
SUMMARY:Allerheiligen
DESCRIPTION:Die Kapelle begleitet den Gottesdienst der St. Konrad Kirche musikalisch.
URL:https://www.mv-burlafingen.de/termine/allerheiligen/
LOCATION:St. Konrad – Katholische Kirche\, Friedhofstraße 8\, Neu-Ulm/Burlafingen\, 89233\, Germany
END:VEVENT
END:VCALENDAR