BEGIN:VCALENDAR
VERSION:2.0
PRODID:-//Musikverein Burlafingen e.V. - ECPv6.15.20//NONSGML v1.0//EN
CALSCALE:GREGORIAN
METHOD:PUBLISH
X-WR-CALNAME:Musikverein Burlafingen e.V.
X-ORIGINAL-URL:https://www.mv-burlafingen.de
X-WR-CALDESC:Veranstaltungen für Musikverein Burlafingen e.V.
REFRESH-INTERVAL;VALUE=DURATION:PT1H
X-Robots-Tag:noindex
X-PUBLISHED-TTL:PT1H
BEGIN:VTIMEZONE
TZID:Europe/Berlin
BEGIN:DAYLIGHT
TZOFFSETFROM:+0100
TZOFFSETTO:+0200
TZNAME:CEST
DTSTART:20250330T010000
END:DAYLIGHT
BEGIN:STANDARD
TZOFFSETFROM:+0200
TZOFFSETTO:+0100
TZNAME:CET
DTSTART:20251026T010000
END:STANDARD
BEGIN:DAYLIGHT
TZOFFSETFROM:+0100
TZOFFSETTO:+0200
TZNAME:CEST
DTSTART:20260329T010000
END:DAYLIGHT
BEGIN:STANDARD
TZOFFSETFROM:+0200
TZOFFSETTO:+0100
TZNAME:CET
DTSTART:20261025T010000
END:STANDARD
BEGIN:DAYLIGHT
TZOFFSETFROM:+0100
TZOFFSETTO:+0200
TZNAME:CEST
DTSTART:20270328T010000
END:DAYLIGHT
BEGIN:STANDARD
TZOFFSETFROM:+0200
TZOFFSETTO:+0100
TZNAME:CET
DTSTART:20271031T010000
END:STANDARD
END:VTIMEZONE
BEGIN:VEVENT
DTSTART;TZID=Europe/Berlin:20260425T183000
DTEND;TZID=Europe/Berlin:20260425T235900
DTSTAMP:20260425T002846
CREATED:20260112T145402Z
LAST-MODIFIED:20260415T124516Z
UID:3185-1777141800-1777161540@www.mv-burlafingen.de
SUMMARY:Jubiläumskonzert - 60 Jahre MVB
DESCRIPTION:WIR WERDEN 60 JAHRE ALT!\nAuch in diesem Jahr findet unser Frühjahrskonzert statt. Allerdings mit einem kleinen Twist!\nEs wird ein Jubiläumskonzert.\nWir möchten dich zu einem Abend mit Filmmusik und anschließend gemeinsamen anstoßen einladen. \nJugendliche unter 18 Jahren dürfen in diesem Jahr kostenfrei Platz nehmen. \nUnter der Leitung von Benjamin Lipp dürfen wir dir das Programm in diesem Jahr vorstellen: \nProgramm 1. Hälfte:\nJubiläumsfanfare                                      Kees Vlak \nAt worlds End                                            Hans Zimmer\nfrom Pirates Of he Caribbean                 arr. Erik Rozendom \n– Ehrungen – \nA Disney Spectacular                               arr. John Moss \n– Pause – \nProgramm 2. Hälfte: \nGladiator                                                     Hans Zimmer\narr. Massimiliano Legnaro \nPixar Movie Magic                                    arr. Michael Brown \nIndiana Jones Selection                          John Williams\narr. Hans von der Heide
URL:https://www.mv-burlafingen.de/termine/jubilaeumskonzert/
LOCATION:Iselhalle\, Thalfinger Straße 82\, Neu-Ulm/Burlafingen\, 89233\, Germany
END:VEVENT
BEGIN:VEVENT
DTSTART;TZID=Europe/Berlin:20260430T180000
DTEND;TZID=Europe/Berlin:20260430T200000
DTSTAMP:20260425T002846
CREATED:20260112T145554Z
LAST-MODIFIED:20260112T145554Z
UID:3187-1777572000-1777579200@www.mv-burlafingen.de
SUMMARY:Maifeier
DESCRIPTION:Juhu\, der Maibaum steht!\nDen Umzug von der katholischen Kirche dürfen wir auch in diesem Jahr wieder anführen.\nMarschiert wird bis zum Dorfplatz.\nHier gibt es ein tolles Programm. \nVielen Dank an den Vereinsring Burlafingen für die Organisation.
URL:https://www.mv-burlafingen.de/termine/maifeier-2/
LOCATION:Dorfplatz\, Thalfinger Straße 55\, Neu-Ulm/Burlafingen\, 89233\, Germany
END:VEVENT
BEGIN:VEVENT
DTSTART;VALUE=DATE:20260501
DTEND;VALUE=DATE:20260502
DTSTAMP:20260425T002846
CREATED:20260112T145749Z
LAST-MODIFIED:20260112T145749Z
UID:3189-1777593600-1777679999@www.mv-burlafingen.de
SUMMARY:Weckruf
DESCRIPTION:Knall\, Ton\, Schritt für Schritt.\n2026 sind wir wieder ab 6:00 Uhr morgens mit unserem traditionellen Weckruf im Dorf unterwegs! \nAlso raus aus den Federn und winkt uns gerne aus euren Fenstern zu. 👋🏻
URL:https://www.mv-burlafingen.de/termine/weckruf-2/
LOCATION:Dorfplatz\, Thalfinger Straße 55\, Neu-Ulm/Burlafingen\, 89233\, Germany
END:VEVENT
BEGIN:VEVENT
DTSTART;VALUE=DATE:20260516
DTEND;VALUE=DATE:20260517
DTSTAMP:20260425T002846
CREATED:20260112T150024Z
LAST-MODIFIED:20260112T150024Z
UID:3191-1778889600-1778975999@www.mv-burlafingen.de
SUMMARY:Stadtfest Neu-Ulm
DESCRIPTION:Pommes\, frische Pommes 💖🍟 \n.. aber nicht nur!\nDass wir auf dem Stadtfest Neu-Ulm ein tolles Essensangebot servieren dürfen\, erfreut uns auch in diesem Jahr!
URL:https://www.mv-burlafingen.de/termine/stadtfest-neu-ulm/
LOCATION:Rathausplatz Neu-Ulm\, Augsburger Straße 15\, Neu-Ulm\, Bayern\, 89231\, Germany
END:VEVENT
BEGIN:VEVENT
DTSTART;VALUE=DATE:20260620
DTEND;VALUE=DATE:20260621
DTSTAMP:20260425T002846
CREATED:20260112T150126Z
LAST-MODIFIED:20260112T150126Z
UID:3193-1781913600-1781999999@www.mv-burlafingen.de
SUMMARY:Dorffest
DESCRIPTION:Ein Wurstsalat und gute Musik dazu?\nSehr gern! \nAuf dem Dorffest begleiten wir den Mittagstisch!
URL:https://www.mv-burlafingen.de/termine/dorffest/
LOCATION:Dorfplatz\, Thalfinger Straße 55\, Neu-Ulm/Burlafingen\, 89233\, Germany
END:VEVENT
BEGIN:VEVENT
DTSTART;TZID=Europe/Berlin:20260712T100000
DTEND;TZID=Europe/Berlin:20260712T140000
DTSTAMP:20260425T002846
CREATED:20260112T150517Z
LAST-MODIFIED:20260112T150816Z
UID:3195-1783850400-1783864800@www.mv-burlafingen.de
SUMMARY:150 Jahre Feuerwehr
DESCRIPTION:Wir gratulieren herzlich unserer Freiwilligen Feuerwehr Burlafingen zu 150 Jahren! 🚒\nIn diesem Rahmen dürfen wir das Sonntagsprogramm mitgestalten!
URL:https://www.mv-burlafingen.de/termine/150-jahre-feuerwehr/
END:VEVENT
END:VCALENDAR