BEGIN:VCALENDAR
VERSION:2.0
PRODID:-//Musikverein Burlafingen e.V. - ECPv6.15.20//NONSGML v1.0//EN
CALSCALE:GREGORIAN
METHOD:PUBLISH
X-WR-CALNAME:Musikverein Burlafingen e.V.
X-ORIGINAL-URL:https://www.mv-burlafingen.de
X-WR-CALDESC:Veranstaltungen für Musikverein Burlafingen e.V.
REFRESH-INTERVAL;VALUE=DURATION:PT1H
X-Robots-Tag:noindex
X-PUBLISHED-TTL:PT1H
BEGIN:VTIMEZONE
TZID:Europe/Berlin
BEGIN:DAYLIGHT
TZOFFSETFROM:+0100
TZOFFSETTO:+0200
TZNAME:CEST
DTSTART:20240331T010000
END:DAYLIGHT
BEGIN:STANDARD
TZOFFSETFROM:+0200
TZOFFSETTO:+0100
TZNAME:CET
DTSTART:20241027T010000
END:STANDARD
BEGIN:DAYLIGHT
TZOFFSETFROM:+0100
TZOFFSETTO:+0200
TZNAME:CEST
DTSTART:20250330T010000
END:DAYLIGHT
BEGIN:STANDARD
TZOFFSETFROM:+0200
TZOFFSETTO:+0100
TZNAME:CET
DTSTART:20251026T010000
END:STANDARD
BEGIN:DAYLIGHT
TZOFFSETFROM:+0100
TZOFFSETTO:+0200
TZNAME:CEST
DTSTART:20260329T010000
END:DAYLIGHT
BEGIN:STANDARD
TZOFFSETFROM:+0200
TZOFFSETTO:+0100
TZNAME:CET
DTSTART:20261025T010000
END:STANDARD
END:VTIMEZONE
BEGIN:VEVENT
DTSTART;TZID=Europe/Berlin:20250426T190000
DTEND;TZID=Europe/Berlin:20250426T230000
DTSTAMP:20260425T205405
CREATED:20241009T200008Z
LAST-MODIFIED:20250422T085146Z
UID:2331-1745694000-1745708400@www.mv-burlafingen.de
SUMMARY:Frühjahrskonzert 2025
DESCRIPTION:Endlich ist es Frühling – Endlich ist es wieder Zeit für unser Frühjahrskonzert! ♥️ \nDer Musikverein Burlafingen lädt ein zum musikalischen Höhepunkt des Jahres!\nUnser ganz besonderes Highlight: Konzertstück trifft auf moderne Elektrosounds und wird begleitet von einer spektakulären Lichtshow!\nFreu dich auf ein abwechslungsreiches Programm\, mitreißende Klänge und pure Spielfreude – live! \nEinlass: ab 19 Uhr \nKonzertbeginn: 19:30 Uhr \nProgramm:\nEröffnung durch die Jugend des MVB\nAnschließend präsentiert die große Kapelle: \nWhere Eagles Soar                                       Steven Reineke\nThe Ghost Ship                                              José Alberto Pina\nRadetzky Marsch                                          Johann Strauss (Vater) \nPAUSE \nMarche des Soldates de                            Jean Brouqiére\nRobert Bruce                                                 arr. Guido Renn \nEHRUNGEN \nAround the world in 80 days                  Otto M. Schwarz\nRosen aus dem Süden                               Johann Strauss (Sohn)\nUdo Jürgens LIVE                                       Udo Jürgens\narr. Kurt Gäble
URL:https://www.mv-burlafingen.de/termine/fruehjahrskonzert/
LOCATION:Iselhalle\, Thalfinger Straße 82\, Neu-Ulm/Burlafingen\, 89233\, Germany
END:VEVENT
BEGIN:VEVENT
DTSTART;TZID=Europe/Berlin:20250430T180000
DTEND;TZID=Europe/Berlin:20250430T193000
DTSTAMP:20260425T205405
CREATED:20241009T200746Z
LAST-MODIFIED:20241219T133005Z
UID:2338-1746036000-1746041400@www.mv-burlafingen.de
SUMMARY:Maifeier
DESCRIPTION:Der Vereinsring Burlafingen veranstaltet die Maifeier.\nGemeinsam mit den umliegenden Vereinen sowie Kindergärten wird der Maibaum geehrt.
URL:https://www.mv-burlafingen.de/termine/maifeier/
LOCATION:Dorfplatz\, Thalfinger Straße 55\, Neu-Ulm/Burlafingen\, 89233\, Germany
END:VEVENT
END:VCALENDAR