BEGIN:VCALENDAR
VERSION:2.0
PRODID:-//Musikverein Burlafingen e.V. - ECPv6.15.20//NONSGML v1.0//EN
CALSCALE:GREGORIAN
METHOD:PUBLISH
X-ORIGINAL-URL:https://www.mv-burlafingen.de
X-WR-CALDESC:Veranstaltungen für Musikverein Burlafingen e.V.
REFRESH-INTERVAL;VALUE=DURATION:PT1H
X-Robots-Tag:noindex
X-PUBLISHED-TTL:PT1H
BEGIN:VTIMEZONE
TZID:Europe/Berlin
BEGIN:DAYLIGHT
TZOFFSETFROM:+0100
TZOFFSETTO:+0200
TZNAME:CEST
DTSTART:20240331T010000
END:DAYLIGHT
BEGIN:STANDARD
TZOFFSETFROM:+0200
TZOFFSETTO:+0100
TZNAME:CET
DTSTART:20241027T010000
END:STANDARD
BEGIN:DAYLIGHT
TZOFFSETFROM:+0100
TZOFFSETTO:+0200
TZNAME:CEST
DTSTART:20250330T010000
END:DAYLIGHT
BEGIN:STANDARD
TZOFFSETFROM:+0200
TZOFFSETTO:+0100
TZNAME:CET
DTSTART:20251026T010000
END:STANDARD
BEGIN:DAYLIGHT
TZOFFSETFROM:+0100
TZOFFSETTO:+0200
TZNAME:CEST
DTSTART:20260329T010000
END:DAYLIGHT
BEGIN:STANDARD
TZOFFSETFROM:+0200
TZOFFSETTO:+0100
TZNAME:CET
DTSTART:20261025T010000
END:STANDARD
END:VTIMEZONE
BEGIN:VEVENT
DTSTART;VALUE=DATE:20250621
DTEND;VALUE=DATE:20250622
DTSTAMP:20260425T172554
CREATED:20241218T152411Z
LAST-MODIFIED:20241218T152411Z
UID:2736-1750464000-1750550399@www.mv-burlafingen.de
SUMMARY:Dorffest 2025
DESCRIPTION:Auch in diesem Jahr dürfen wir bei unserem Dorffest mitwirken. \nZum Fassanstich unterstreichen wir den Mittagstisch und ganztägig wird an unserem Pilsstand frisches Pils für dich gezapft! 🍻
URL:https://www.mv-burlafingen.de/termine/dorffest-burlafingen-2025/
LOCATION:Dorfplatz\, Thalfinger Straße 55\, Neu-Ulm/Burlafingen\, 89233\, Germany
END:VEVENT
BEGIN:VEVENT
DTSTART;TZID=Europe/Berlin:20250629T110000
DTEND;TZID=Europe/Berlin:20250629T130000
DTSTAMP:20260425T172554
CREATED:20250224T164835Z
LAST-MODIFIED:20250224T165042Z
UID:2927-1751194800-1751202000@www.mv-burlafingen.de
SUMMARY:Glacis Konzert
DESCRIPTION:Jedes Jahr dürfen wir im Glacis in Neu-Ulm das schöne Burlafingen vertreten.\nAuch in diesem Jahr freuen wir uns auf dein Kommen!
URL:https://www.mv-burlafingen.de/termine/glacis-konzert/
LOCATION:Glacis Park Neu-Ulm\, Neu-Ulm\, 89231\, Germany
END:VEVENT
END:VCALENDAR