BEGIN:VCALENDAR
VERSION:2.0
PRODID:-//Musikverein Burlafingen e.V. - ECPv6.15.20//NONSGML v1.0//EN
CALSCALE:GREGORIAN
METHOD:PUBLISH
X-WR-CALNAME:Musikverein Burlafingen e.V.
X-ORIGINAL-URL:https://www.mv-burlafingen.de
X-WR-CALDESC:Veranstaltungen für Musikverein Burlafingen e.V.
REFRESH-INTERVAL;VALUE=DURATION:PT1H
X-Robots-Tag:noindex
X-PUBLISHED-TTL:PT1H
BEGIN:VTIMEZONE
TZID:Europe/Berlin
BEGIN:DAYLIGHT
TZOFFSETFROM:+0100
TZOFFSETTO:+0200
TZNAME:CEST
DTSTART:20240331T010000
END:DAYLIGHT
BEGIN:STANDARD
TZOFFSETFROM:+0200
TZOFFSETTO:+0100
TZNAME:CET
DTSTART:20241027T010000
END:STANDARD
BEGIN:DAYLIGHT
TZOFFSETFROM:+0100
TZOFFSETTO:+0200
TZNAME:CEST
DTSTART:20250330T010000
END:DAYLIGHT
BEGIN:STANDARD
TZOFFSETFROM:+0200
TZOFFSETTO:+0100
TZNAME:CET
DTSTART:20251026T010000
END:STANDARD
BEGIN:DAYLIGHT
TZOFFSETFROM:+0100
TZOFFSETTO:+0200
TZNAME:CEST
DTSTART:20260329T010000
END:DAYLIGHT
BEGIN:STANDARD
TZOFFSETFROM:+0200
TZOFFSETTO:+0100
TZNAME:CET
DTSTART:20261025T010000
END:STANDARD
END:VTIMEZONE
BEGIN:VEVENT
DTSTART;TZID=Europe/Berlin:20250713T100000
DTEND;TZID=Europe/Berlin:20250713T120000
DTSTAMP:20260425T154838
CREATED:20250224T165254Z
LAST-MODIFIED:20250224T165254Z
UID:2933-1752400800-1752408000@www.mv-burlafingen.de
SUMMARY:50 Jahre Frauenbund - Gottesdienst
DESCRIPTION:50 Jahre Frauenbund! 🥳\nWas für eine Zahl! \nWir freuen uns den Gottesdienst musikalisch begleiten zu dürfen!
URL:https://www.mv-burlafingen.de/termine/50-jahre-frauenbund-gottesdienst/
LOCATION:St. Konrad – Katholische Kirche\, Friedhofstraße 8\, Neu-Ulm/Burlafingen\, 89233\, Germany
END:VEVENT
END:VCALENDAR